BEGIN:VCALENDAR
VERSION:2.0
PRODID:-//PWTC//PWTC Ride Calendar//EN
CALSCALE:GREGORIAN
BEGIN:VEVENT
UID:post_39336@pwtc.com
DTSTAMP:20260416T032234Z
DTSTART:20260422T170000Z
STATUS:CONFIRMED
LOCATION:East Faraday Road & Oregon 224, Oregon, USA
GEO:45.2718003;-122.3182084
SUMMARY:Wednesday Waterfalls Series: Theme & Variations
DESCRIPTION:Portland Bicycling Club\nWednesday, April 22 at 10:00 AM\n
 \nPlease join us for a bike ride, all are welcome!\nFor details see:\n
 https://portlandbicyclingclub.com/scheduled_rides/wednesday-waterfalls
 -series-theme-variations-3/
URL:https://portlandbicyclingclub.com/scheduled_rides/wednesday-waterf
 alls-series-theme-variations-3/
END:VEVENT
END:VCALENDAR
