BEGIN:VCALENDAR
VERSION:2.0
PRODID:-//PWTC//PWTC Ride Calendar//EN
CALSCALE:GREGORIAN
BEGIN:VEVENT
UID:post_39234@pwtc.com
DTSTAMP:20260407T031609Z
DTSTART:20260426T170000Z
STATUS:CONFIRMED
LOCATION:Gateway Transit Center, NE 99th and NE Pacific, Portland, OR
GEO:45.529015163939;-122.56326354009
SUMMARY:Sunday Social
DESCRIPTION:Portland Bicycling Club\nSunday, April 26 at 10:00 AM\n\nP
 lease join us for a bike ride, all are welcome!\nFor details see:\nhtt
 ps://portlandbicyclingclub.com/scheduled_rides/sunday-social-45/
URL:https://portlandbicyclingclub.com/scheduled_rides/sunday-social-45
 /
END:VEVENT
END:VCALENDAR
