BEGIN:VCALENDAR
VERSION:2.0
PRODID:-//PWTC//PWTC Ride Calendar//EN
CALSCALE:GREGORIAN
BEGIN:VEVENT
UID:post_39265@pwtc.com
DTSTAMP:20260413T041614Z
DTSTART:20260424T170000Z
STATUS:CONFIRMED
LOCATION:Wilshire Park, NE 36th Ave & Northeast Skidmore Street, Portl
 and, OR, USA
GEO:45.5536836;-122.6266217
SUMMARY:Kelley Point Short Route
DESCRIPTION:Portland Bicycling Club\nFriday, April 24 at 10:00 AM\n\nP
 lease join us for a bike ride, all are welcome!\nFor details see:\nhtt
 ps://portlandbicyclingclub.com/scheduled_rides/kelley-point-short-rout
 e-46/
URL:https://portlandbicyclingclub.com/scheduled_rides/kelley-point-sho
 rt-route-46/
END:VEVENT
END:VCALENDAR
