BEGIN:VCALENDAR
VERSION:2.0
PRODID:-//PWTC//PWTC Ride Calendar//EN
CALSCALE:GREGORIAN
BEGIN:VEVENT
UID:post_39363@pwtc.com
DTSTAMP:20260418T000540Z
DTSTART:20260421T160000Z
STATUS:CONFIRMED
LOCATION:Upper Sellwood Park, SE Malden St and SE 7th Ave, Portland, O
 R
GEO:45.469359506228;-122.65924536323
SUMMARY:Goin’ Mobile, Clockwise
DESCRIPTION:Portland Bicycling Club\nTuesday, April 21 at 9:00 AM\n\nP
 lease join us for a bike ride, all are welcome!\nFor details see:\nhtt
 ps://portlandbicyclingclub.com/scheduled_rides/goin-mobile-clockwise-2
 /
URL:https://portlandbicyclingclub.com/scheduled_rides/goin-mobile-cloc
 kwise-2/
END:VEVENT
END:VCALENDAR
